BEGIN:VCALENDAR
VERSION:2.0
PRODID:-//BTU Veranstaltungskalender//DE
CALSCALE:GREGORIAN
METHOD:PUBLISH
BEGIN:VTIMEZONE
TZID:Europe/Berlin
X-LIC-LOCATION:Europe/Berlin
BEGIN:DAYLIGHT
DTSTART:19700329T020000
RRULE:BYMONTH=3;FREQ=YEARLY;BYDAY=-1SU
TZNAME:CEST
TZOFFSETFROM:+0100
TZOFFSETTO:+0200
END:DAYLIGHT
BEGIN:STANDARD
DTSTART:19701025T030000
RRULE:BYMONTH=10;FREQ=YEARLY;BYDAY=-1SU
TZNAME:CET
TZOFFSETFROM:+0200
TZOFFSETTO:+0100
END:STANDARD
END:VTIMEZONE
BEGIN:VEVENT
UID:news-27327@www-t3-2.b-tu.de:51201
SUMMARY:BTU-Gesundheitsaktionstag und Eröffnung des Bewegungsparcours am Campus Senftenberg
DESCRIPTION:Wir laden Sie recht herzlich zum BTU-Gesundheitsaktionstag am Mittwoch, den 22. April 2026 am Campus Senftenberg ein.&amp;nbsp;\nFreuen Sie sich auf folgende Vorsorgeangebote und Sportkurse (Anmeldung erforderlich): Knochendichtemessung, Venenmessung, Body-Check, Tricuro Rückencheck, Pilatesschnupperkurs, Offener Kraftraum, ESG-Muskeltonusmessung oder probieren Sie sich auf dem Balance-Board aus.\nEin besonderes Highlight ist die feierliche Eröffnung des neuen Bewegungsparcours rund um das Beachvolleyballfeld um 11.30 Uhr durch den Vizepräsidenten für Studium und Lehre Prof. Peer Schmidt. Es erwarten Sie Gesangs- und Tanzeinlagen, ein Sektempfang und die Vorstellung der Sportgeräte durch Studierende der Therapiewissenschaften und Kolleginnen des Hochschulsports. Seien Sie dabei und erfahren Sie, wie Sie Ihren Arbeits- und Studientag sportlich gestalten können.\nVielen Dank an unsere Unterstützer*innen und Kooperationspartner*innen, von der AOK Nordost, Barmer, die Techniker Krankenkasse und dem Studiengang Therapiewissenschaften.&amp;nbsp;
DTSTAMP;TZID=Europe/Berlin:20260422T100000
DTSTART;TZID=Europe/Berlin:20260422T100000
DTEND;TZID=Europe/Berlin:20260422T150000
URL:https://www.b-tu.de/news/artikel/27327-btu-gesundheitsaktionstag-und-eroeffnung-des-neuen-bewegungsparcours-am-campus-senftenberg
END:VEVENT
END:VCALENDAR

