BEGIN:VCALENDAR
VERSION:2.0
PRODID:-//BTU Veranstaltungskalender//DE
CALSCALE:GREGORIAN
METHOD:PUBLISH
BEGIN:VTIMEZONE
TZID:Europe/Berlin
X-LIC-LOCATION:Europe/Berlin
BEGIN:DAYLIGHT
DTSTART:19700329T020000
RRULE:BYMONTH=3;FREQ=YEARLY;BYDAY=-1SU
TZNAME:CEST
TZOFFSETFROM:+0100
TZOFFSETTO:+0200
END:DAYLIGHT
BEGIN:STANDARD
DTSTART:19701025T030000
RRULE:BYMONTH=10;FREQ=YEARLY;BYDAY=-1SU
TZNAME:CET
TZOFFSETFROM:+0200
TZOFFSETTO:+0100
END:STANDARD
END:VTIMEZONE
BEGIN:VEVENT
UID:news-13257@www-t3-2.b-tu.de:51201
SUMMARY:Seminar: IEEE Xplore Digital Library and How to Write a Paper for IEEE 
DESCRIPTION:Invitation to an event with Ms Eszter Lukacs of IEEE (in English)\nTime: 11 January 2018, 2:00 pm\nVenue: Central Campus Cottbus, University Library, 7th floor\nTarget group\nPhD students and postdoctoral researchers in engineering, technology and natural sciences\nContent\nGet to know the database IEEE and learn more about how to write a scientific article.\nIn the first part of the seminar you will learn tips and tricks how to search in IEEE Xplore. Furthermore you will get to know suitable search strategies and useful tools and functions within the database.\nThe second part is about the process of writing scientific articles for IEEE. You will learn about the formal structure of scientific articles and how to improve you writing skills. Additionally you will find out how editorial processes, peer reviewing and open access work.\nIn the end there will be enough time for questions and discussions.\nThe duration of this event will be approx. 2,5 hrs.\nRegistration &amp;amp; contact\nPlease register via email to: Kathrin Woywod
LOCATION: Foyer im 7. OG\, IKMZ - Zentralcampus - Platz der Deutschen Einheit 2 03044 Cottbus
DTSTAMP;TZID=Europe/Berlin:20180111T140000
DTSTART;TZID=Europe/Berlin:20180111T140000
DTEND;TZID=Europe/Berlin:20180111T163000
URL:https://www.b-tu.de/en/news/article/13257-seminar-ieee-xplore-digital-library-and-how-to-write-a-paper-for-ieee
END:VEVENT
END:VCALENDAR

