BEGIN:VCALENDAR
VERSION:2.0
PRODID:-//BTU Veranstaltungskalender//DE
CALSCALE:GREGORIAN
METHOD:PUBLISH
BEGIN:VTIMEZONE
TZID:Europe/Berlin
X-LIC-LOCATION:Europe/Berlin
BEGIN:DAYLIGHT
DTSTART:19700329T020000
RRULE:BYMONTH=3;FREQ=YEARLY;BYDAY=-1SU
TZNAME:CEST
TZOFFSETFROM:+0100
TZOFFSETTO:+0200
END:DAYLIGHT
BEGIN:STANDARD
DTSTART:19701025T030000
RRULE:BYMONTH=10;FREQ=YEARLY;BYDAY=-1SU
TZNAME:CET
TZOFFSETFROM:+0200
TZOFFSETTO:+0100
END:STANDARD
END:VTIMEZONE
BEGIN:VEVENT
UID:news-13258@www-t3-2.b-tu.de:51201
SUMMARY:Cookie Lecture: Teilen ausdrücklich erwünscht! Nutzung von Creative Commons Lizenzen
DESCRIPTION:How may others use my work? How may I use anothers works? The Creative Commons licenses are a tool to extend the tight legal copyright regulations: With a CC license, authors can transform the standard &amp;quot;All rights reserved &amp;quot;in&amp;quot; Some Rights Reserved &amp;quot;. \nCC licenses are a simple, standardized method for third parties to use a work for specific purposes.\nA registration is not required. The Cookie Lecture is in German.
LOCATION: Foyer im 7. OG\, IKMZ - Zentralcampus - Platz der Deutschen Einheit 2 03044 Cottbus
DTSTAMP;TZID=Europe/Berlin:20171212T110000
DTSTART;TZID=Europe/Berlin:20171212T110000
DTEND;TZID=Europe/Berlin:20171212T111500
URL:https://www.b-tu.de/en/news/article/13258-cookie-lecture-teilen-ausdruecklich-erwuenscht-nutzung-von-creative-commons-lizenzen
END:VEVENT
END:VCALENDAR

