BEGIN:VCALENDAR
VERSION:2.0
PRODID:-//BTU Veranstaltungskalender//DE
CALSCALE:GREGORIAN
METHOD:PUBLISH
BEGIN:VTIMEZONE
TZID:Europe/Berlin
X-LIC-LOCATION:Europe/Berlin
BEGIN:DAYLIGHT
DTSTART:19700329T020000
RRULE:BYMONTH=3;FREQ=YEARLY;BYDAY=-1SU
TZNAME:CEST
TZOFFSETFROM:+0100
TZOFFSETTO:+0200
END:DAYLIGHT
BEGIN:STANDARD
DTSTART:19701025T030000
RRULE:BYMONTH=10;FREQ=YEARLY;BYDAY=-1SU
TZNAME:CET
TZOFFSETFROM:+0200
TZOFFSETTO:+0100
END:STANDARD
END:VTIMEZONE
BEGIN:VEVENT
UID:news-14996@www-t3-2.b-tu.de:51201
SUMMARY:#DIESMAL WÄHLE ICH - WAHLEN ZUM EUROPÄISCHEN PARLAMENT
DESCRIPTION:Die Brandenburgische Technische Universität Cottbus-Senftenberg und die Euroregion Spree-Neiße-Bober mit Europe Direct Guben (EDIG) laden Sie zu einer Informationsveranstaltung anlässlich der diesjährigen Wahlen zum Europäischen Parlament nach Cottbus ein. Informieren Sie sich und stellen Sie Fragen. Diskutieren Sie mit Europaparlamentariern, Praktikern und Wissenschaftlern. Und: Gehen Sie wählen! Wir freuen uns auf Ihre Teilnahme.  Diskutieren Sie mit:&amp;nbsp;\nWolfgang Balint Vorsitzender des Landesverbandes Brandenburg der Europa Union Deutschland\nKeith Barlow, Die Linke Kandidat für die Wahl zum Europäischen Parlament\nDr. Patrick Breyer, Piratenpartei Spitzenkandidat der Piratenpartei für die Wahl zum Europäischen Parlament\nDr. Christian Ehler, CDU Mitglied des Europäischen Parlaments\nPD Dr. Jan Hoffmann, LL.M. Eur. Zentrum für Rechts- und Verwaltungswissenschaften\nCarsten Jacob Geschäftsführer der Euroregion Spree-Neiße-Bober e.V. mit Europe Direct Guben\nDr. Sergey Lagodinsky, Bündnis 90/Die Grünen Kandidat&amp;nbsp;für die Wahl zum Europäischen Parlament\nMaja Wallstein, SPD Europakandidatin der SPD Brandenburg
LOCATION: Großer Hörsaal - Zentralcampus - Konrad-Zuse-Straße 4 03046 Cottbus
DTSTAMP;TZID=Europe/Berlin:20190516T173000
DTSTART;TZID=Europe/Berlin:20190516T173000
DTEND;TZID=Europe/Berlin:20190516T193000
URL:https://www.b-tu.de/news/artikel/14996-diesmal-waehle-ich-wahlen-zum-europaeischen-parlament
END:VEVENT
END:VCALENDAR

