BEGIN:VCALENDAR
VERSION:2.0
PRODID:-//BTU Veranstaltungskalender//DE
CALSCALE:GREGORIAN
METHOD:PUBLISH
BEGIN:VTIMEZONE
TZID:Europe/Berlin
X-LIC-LOCATION:Europe/Berlin
BEGIN:DAYLIGHT
DTSTART:19700329T020000
RRULE:BYMONTH=3;FREQ=YEARLY;BYDAY=-1SU
TZNAME:CEST
TZOFFSETFROM:+0100
TZOFFSETTO:+0200
END:DAYLIGHT
BEGIN:STANDARD
DTSTART:19701025T030000
RRULE:BYMONTH=10;FREQ=YEARLY;BYDAY=-1SU
TZNAME:CET
TZOFFSETFROM:+0200
TZOFFSETTO:+0100
END:STANDARD
END:VTIMEZONE
BEGIN:VEVENT
UID:news-31242@www-t3-2.b-tu.de:51201
SUMMARY:5. Brandenburger Science Slam in Spremberg
DESCRIPTION:Am Freitag, den 12. Juni 2026 findet im Spremberger Spreekino die fünfte Runde des Brandenburger Science Slams der Präsenzstellen der Hochschulen des Landes Brandenburg statt.\nIn diesem unterhaltsamen Format präsentieren Wissenschaftlerinnen und Wissenschaftler ihre Forschungsthemen in maximal zehn Minuten – leicht verständlich, spannend und idealerweise mit einer großen Portion Humor. Am Ende entscheidet das Publikum, wer als beste Slammerin oder bester Slammer des Abends gekürt wird.\nWo? Spreekino, Am Markt 5, 03130 SprembergWann? 19:00 Uhr bis 22:00 Uhr (Einlass ab 18:00 Uhr)\nDie Slammenden des Abends:\nDr. Christoph Abels (Universität Potsdam)Dr. Martin Reifarth (Universität Potsdam)Robin Jost (BTU Cottbus–Senftenberg&amp;nbsp;-&amp;nbsp; Mittelstand-Digital Zentrum Spreeland)Dr. Rudy Cepeda Gomez (DLR-Institut für Elektrifizierte Luftfahrtantriebe)Claudia Arndt (BTU Cottbus–Senftenberg -&amp;nbsp;Alterperimentale)Dr. Marten Klein (BTU Cottbus–Senftenberg -&amp;nbsp;Energie-Innovationszentrum)Dr. Alexander Leymann (Bundesamt fuer Strahlenschutz)\n&amp;nbsp;\nDer Eintritt ist frei!\nZur Anmeldung\n&amp;nbsp;\nScience Slams finden an Orten statt, die wenig mit Forschung zu tun haben. Veranstaltungsorte sind die Lieblingskneipe nebenan, das schicke Theater der Stadt oder originelle Plätze wie ein alter Hangar. Und hier kommen die Präsenzstellen der Hochschulen des Landes Brandenburg ins Spiel: denn sie bringen Wissenschaft an Orte, an denen es keine wissenschaftlichen Einrichtungen gibt. Für Wissenschaftsbegeisterte finden von April bis Juni 2026 quer durch das Land Brandenburg gleich sieben Science Slams statt.
LOCATION:Spreekino Spremberg, Am Markt 5, 03130 Spremberg
DTSTAMP;TZID=Europe/Berlin:20260612T190000
DTSTART;TZID=Europe/Berlin:20260612T190000
DTEND;TZID=Europe/Berlin:20260612T220000
URL:https://www.b-tu.de/news/artikel/31242-5-brandenburger-science-slam-in-spremberg
END:VEVENT
END:VCALENDAR

