BEGIN:VCALENDAR
VERSION:2.0
PRODID:-//BTU Veranstaltungskalender//DE
CALSCALE:GREGORIAN
METHOD:PUBLISH
BEGIN:VTIMEZONE
TZID:Europe/Berlin
X-LIC-LOCATION:Europe/Berlin
BEGIN:DAYLIGHT
DTSTART:19700329T020000
RRULE:BYMONTH=3;FREQ=YEARLY;BYDAY=-1SU
TZNAME:CEST
TZOFFSETFROM:+0100
TZOFFSETTO:+0200
END:DAYLIGHT
BEGIN:STANDARD
DTSTART:19701025T030000
RRULE:BYMONTH=10;FREQ=YEARLY;BYDAY=-1SU
TZNAME:CET
TZOFFSETFROM:+0200
TZOFFSETTO:+0100
END:STANDARD
END:VTIMEZONE
BEGIN:VEVENT
UID:news-31269@www-t3-2.b-tu.de:51201
SUMMARY:Schulung für Praxisanleitende (1/3) 2026
DESCRIPTION:In der 24-stündigen berufspädagogischen Fortbildung an der BTU stehen partizipative Lehr-Lern-Arrangements im Mittelpunkt der Qualifizierung. Die Themenschwerpunkte variieren zwischen heilkundlichen Tätigkeiten, Sicherheit für Patient*innen, interdisziplinäre Kommunikation oder Simulation.\nDer Lern-Lern-Raum ist kennzeichnet durch den Praxis-Theorie-Praxis-Transfer der jeweiligen Beteiligten. Sowohl die Lehrenden der Hochschule als auch die Lehrenden der beruflichen Praxis (Praxisanleitende) integrieren ihre Expertise in den gemeinsamen dialogischen Lehr-Lern-Raum.&amp;nbsp;\nAnmeldung\nProgramm\nab 9.30 Uhr&amp;nbsp;Ankommen10.00 bis 10.15 UhrBegrüßung und VorstellungsrundeAbstimmung des Schulungsprogramms&amp;nbsp;Jeannette Jänchen (Leiterin der Abteilung für Lehren und Lernen in der Berufspraxis)10.15 bis 11.15 UhrVorstellung der gesundheitsbezogenen Studiengänge am Institut für Gesundheit: Studieninhalte, Modulhandbuch, Rahmendurchlaufplan, Prüfungsordnungen im Studiengang PflegewissenschaftJeannette Jänchen&amp;nbsp;&amp;nbsp;Kaffeepause11.30 bis 12.30 Uhr&amp;nbsp;Ablauf der praktischen Ausbildung in der berufspraktischen Studienphase / Zusammenarbeit mit der Abteilung für Lehren und Lernen in der Berufspraxis (ALLB)Jeannette Jänchen&amp;nbsp;&amp;nbsp;Mittagspause&amp;nbsp;13.15 bis 14.30 UhrArbeit mit Lernaufgaben in der berufspraktischen Studienphase / LernaufgabenpoolNadine Hirche (Mitarbeiterin der Abteilung für Lehren und Lernen in der Berufspraxis)&amp;nbsp;Kaffeepause14.45 bis 15.45 Uhr&amp;nbsp;&amp;nbsp;Ein Blick in unsere Skills Labs / Rundgang durch das Institut15.45 UhrOffene Fragen und weitere Anliegen16.00 UhrAusklang
LOCATION: 1.308\, Gebäude 1 - SFB - Campus Senftenberg - Universitätsplatz 1 01968 Senftenberg
DTSTAMP;TZID=Europe/Berlin:20260427T100000
DTSTART;TZID=Europe/Berlin:20260427T100000
DTEND;TZID=Europe/Berlin:20260427T160000
URL:https://www.b-tu.de/news/artikel/31269-schulung-fuer-praxisanleitende-1-3-2026
END:VEVENT
END:VCALENDAR

