
BEGIN:VCALENDAR
VERSION:2.0
PRODID:www.b-tu.de/seniorenuni
X-PUBLISHED-TTL:P1W
BEGIN:VEVENT
UID:69e4ff1744905
DTSTART;TZID=Europe/Berlin:20210419T093000
SEQUENCE:0
TRANSP:OPAQUE
DTEND;TZID=Europe/Berlin:20210419T110000
LOCATION:!!! Online-Seminar !!!\nDie Zugangsdaten erhalten die angemeldeten
  Teilnehmenden per E-Mail
SUMMARY:Kein Jubiläumsjahr 2021? Dennoch gibt es Gründe…
CLASS:PUBLIC
DESCRIPTION:Eine Veranstaltung der SeniorenUniversität Cottbus-Senftenberg
DTSTAMP:20260419T181311Z
BEGIN:VALARM
TRIGGER:-PT60M
ACTION:DISPLAY
DESCRIPTION:Kein Jubiläumsjahr 2021? Dennoch gibt es Gründe… beginnt in
  60 min.
END:VALARM
END:VEVENT
BEGIN:VEVENT
UID:69e4ff1744976
DTSTART;TZID=Europe/Berlin:20210503T093000
SEQUENCE:0
TRANSP:OPAQUE
DTEND;TZID=Europe/Berlin:20210503T110000
LOCATION:!!! Online-Seminar !!!\nDie Zugangsdaten erhalten die angemeldeten
  Teilnehmenden per E-Mail
SUMMARY:Kein Jubiläumsjahr 2021? Dennoch gibt es Gründe…
CLASS:PUBLIC
DESCRIPTION:Eine Veranstaltung der SeniorenUniversität Cottbus-Senftenberg
DTSTAMP:20260419T181311Z
BEGIN:VALARM
TRIGGER:-PT60M
ACTION:DISPLAY
DESCRIPTION:Kein Jubiläumsjahr 2021? Dennoch gibt es Gründe… beginnt in
  60 min.
END:VALARM
END:VEVENT
END:VCALENDAR