
BEGIN:VCALENDAR
VERSION:2.0
PRODID:www.b-tu.de/seniorenuni
X-PUBLISHED-TTL:P1W
BEGIN:VEVENT
UID:69e83f3c1e02a
DTSTART;TZID=Europe/Berlin:20211012T091500
SEQUENCE:0
TRANSP:OPAQUE
DTEND;TZID=Europe/Berlin:20211012T104500
LOCATION:LG 3B - Raum 119
SUMMARY:Medientechnik – Komponenten und Anwendungen
CLASS:PUBLIC
DESCRIPTION:Eine Veranstaltung der SeniorenUniversität Cottbus-Senftenberg
DTSTAMP:20260422T052340Z
BEGIN:VALARM
TRIGGER:-PT60M
ACTION:DISPLAY
DESCRIPTION:Medientechnik – Komponenten und Anwendungen beginnt in 60 min
 .
END:VALARM
END:VEVENT
BEGIN:VEVENT
UID:69e83f3c1e094
DTSTART;TZID=Europe/Berlin:20211019T091500
SEQUENCE:0
TRANSP:OPAQUE
DTEND;TZID=Europe/Berlin:20211019T104500
LOCATION:LG 3B - Raum 119
SUMMARY:Medientechnik – Komponenten und Anwendungen
CLASS:PUBLIC
DESCRIPTION:Eine Veranstaltung der SeniorenUniversität Cottbus-Senftenberg
DTSTAMP:20260422T052340Z
BEGIN:VALARM
TRIGGER:-PT60M
ACTION:DISPLAY
DESCRIPTION:Medientechnik – Komponenten und Anwendungen beginnt in 60 min
 .
END:VALARM
END:VEVENT
BEGIN:VEVENT
UID:69e83f3c1e099
DTSTART;TZID=Europe/Berlin:20211026T091500
SEQUENCE:0
TRANSP:OPAQUE
DTEND;TZID=Europe/Berlin:20211026T104500
LOCATION:LG 3B - Raum 119
SUMMARY:Medientechnik – Komponenten und Anwendungen
CLASS:PUBLIC
DESCRIPTION:Eine Veranstaltung der SeniorenUniversität Cottbus-Senftenberg
DTSTAMP:20260422T052340Z
BEGIN:VALARM
TRIGGER:-PT60M
ACTION:DISPLAY
DESCRIPTION:Medientechnik – Komponenten und Anwendungen beginnt in 60 min
 .
END:VALARM
END:VEVENT
BEGIN:VEVENT
UID:69e83f3c1e09c
DTSTART;TZID=Europe/Berlin:20211102T091500
SEQUENCE:0
TRANSP:OPAQUE
DTEND;TZID=Europe/Berlin:20211102T104500
LOCATION:LG 3B - Raum 119
SUMMARY:Medientechnik – Komponenten und Anwendungen
CLASS:PUBLIC
DESCRIPTION:Eine Veranstaltung der SeniorenUniversität Cottbus-Senftenberg
DTSTAMP:20260422T052340Z
BEGIN:VALARM
TRIGGER:-PT60M
ACTION:DISPLAY
DESCRIPTION:Medientechnik – Komponenten und Anwendungen beginnt in 60 min
 .
END:VALARM
END:VEVENT
BEGIN:VEVENT
UID:69e83f3c1e09f
DTSTART;TZID=Europe/Berlin:20211109T091500
SEQUENCE:0
TRANSP:OPAQUE
DTEND;TZID=Europe/Berlin:20211109T104500
LOCATION:LG 3B - Raum 119
SUMMARY:Medientechnik – Komponenten und Anwendungen
CLASS:PUBLIC
DESCRIPTION:Eine Veranstaltung der SeniorenUniversität Cottbus-Senftenberg
DTSTAMP:20260422T052340Z
BEGIN:VALARM
TRIGGER:-PT60M
ACTION:DISPLAY
DESCRIPTION:Medientechnik – Komponenten und Anwendungen beginnt in 60 min
 .
END:VALARM
END:VEVENT
BEGIN:VEVENT
UID:69e83f3c1e0a2
DTSTART;TZID=Europe/Berlin:20211116T091500
SEQUENCE:0
TRANSP:OPAQUE
DTEND;TZID=Europe/Berlin:20211116T104500
LOCATION:LG 3B - Raum 119
SUMMARY:Medientechnik – Komponenten und Anwendungen
CLASS:PUBLIC
DESCRIPTION:Eine Veranstaltung der SeniorenUniversität Cottbus-Senftenberg
DTSTAMP:20260422T052340Z
BEGIN:VALARM
TRIGGER:-PT60M
ACTION:DISPLAY
DESCRIPTION:Medientechnik – Komponenten und Anwendungen beginnt in 60 min
 .
END:VALARM
END:VEVENT
BEGIN:VEVENT
UID:69e83f3c1e0a5
DTSTART;TZID=Europe/Berlin:20211123T091500
SEQUENCE:0
TRANSP:OPAQUE
DTEND;TZID=Europe/Berlin:20211123T104500
LOCATION:LG 3B - Raum 119
SUMMARY:Medientechnik – Komponenten und Anwendungen
CLASS:PUBLIC
DESCRIPTION:Eine Veranstaltung der SeniorenUniversität Cottbus-Senftenberg
DTSTAMP:20260422T052340Z
BEGIN:VALARM
TRIGGER:-PT60M
ACTION:DISPLAY
DESCRIPTION:Medientechnik – Komponenten und Anwendungen beginnt in 60 min
 .
END:VALARM
END:VEVENT
BEGIN:VEVENT
UID:69e83f3c1e0a8
DTSTART;TZID=Europe/Berlin:20211130T091500
SEQUENCE:0
TRANSP:OPAQUE
DTEND;TZID=Europe/Berlin:20211130T104500
LOCATION:LG 3B - Raum 119
SUMMARY:Medientechnik – Komponenten und Anwendungen
CLASS:PUBLIC
DESCRIPTION:Eine Veranstaltung der SeniorenUniversität Cottbus-Senftenberg
DTSTAMP:20260422T052340Z
BEGIN:VALARM
TRIGGER:-PT60M
ACTION:DISPLAY
DESCRIPTION:Medientechnik – Komponenten und Anwendungen beginnt in 60 min
 .
END:VALARM
END:VEVENT
BEGIN:VEVENT
UID:69e83f3c1e0aa
DTSTART;TZID=Europe/Berlin:20211207T091500
SEQUENCE:0
TRANSP:OPAQUE
DTEND;TZID=Europe/Berlin:20211207T104500
LOCATION:LG 3B - Raum 119
SUMMARY:Medientechnik – Komponenten und Anwendungen
CLASS:PUBLIC
DESCRIPTION:Eine Veranstaltung der SeniorenUniversität Cottbus-Senftenberg
DTSTAMP:20260422T052340Z
BEGIN:VALARM
TRIGGER:-PT60M
ACTION:DISPLAY
DESCRIPTION:Medientechnik – Komponenten und Anwendungen beginnt in 60 min
 .
END:VALARM
END:VEVENT
BEGIN:VEVENT
UID:69e83f3c1e0ad
DTSTART;TZID=Europe/Berlin:20211214T091500
SEQUENCE:0
TRANSP:OPAQUE
DTEND;TZID=Europe/Berlin:20211214T104500
LOCATION:LG 3B - Raum 119
SUMMARY:Medientechnik – Komponenten und Anwendungen
CLASS:PUBLIC
DESCRIPTION:Eine Veranstaltung der SeniorenUniversität Cottbus-Senftenberg
DTSTAMP:20260422T052340Z
BEGIN:VALARM
TRIGGER:-PT60M
ACTION:DISPLAY
DESCRIPTION:Medientechnik – Komponenten und Anwendungen beginnt in 60 min
 .
END:VALARM
END:VEVENT
BEGIN:VEVENT
UID:69e83f3c1e0b0
DTSTART;TZID=Europe/Berlin:20211221T091500
SEQUENCE:0
TRANSP:OPAQUE
DTEND;TZID=Europe/Berlin:20211221T104500
LOCATION:LG 3B - Raum 119
SUMMARY:Medientechnik – Komponenten und Anwendungen
CLASS:PUBLIC
DESCRIPTION:Eine Veranstaltung der SeniorenUniversität Cottbus-Senftenberg
DTSTAMP:20260422T052340Z
BEGIN:VALARM
TRIGGER:-PT60M
ACTION:DISPLAY
DESCRIPTION:Medientechnik – Komponenten und Anwendungen beginnt in 60 min
 .
END:VALARM
END:VEVENT
BEGIN:VEVENT
UID:69e83f3c1e0b3
DTSTART;TZID=Europe/Berlin:20211228T091500
SEQUENCE:0
TRANSP:OPAQUE
DTEND;TZID=Europe/Berlin:20211228T104500
LOCATION:LG 3B - Raum 119
SUMMARY:Medientechnik – Komponenten und Anwendungen
CLASS:PUBLIC
DESCRIPTION:Eine Veranstaltung der SeniorenUniversität Cottbus-Senftenberg
DTSTAMP:20260422T052340Z
BEGIN:VALARM
TRIGGER:-PT60M
ACTION:DISPLAY
DESCRIPTION:Medientechnik – Komponenten und Anwendungen beginnt in 60 min
 .
END:VALARM
END:VEVENT
BEGIN:VEVENT
UID:69e83f3c1e0b6
DTSTART;TZID=Europe/Berlin:20220104T091500
SEQUENCE:0
TRANSP:OPAQUE
DTEND;TZID=Europe/Berlin:20220104T104500
LOCATION:LG 3B - Raum 119
SUMMARY:Medientechnik – Komponenten und Anwendungen
CLASS:PUBLIC
DESCRIPTION:Eine Veranstaltung der SeniorenUniversität Cottbus-Senftenberg
DTSTAMP:20260422T052340Z
BEGIN:VALARM
TRIGGER:-PT60M
ACTION:DISPLAY
DESCRIPTION:Medientechnik – Komponenten und Anwendungen beginnt in 60 min
 .
END:VALARM
END:VEVENT
BEGIN:VEVENT
UID:69e83f3c1e0b9
DTSTART;TZID=Europe/Berlin:20220111T091500
SEQUENCE:0
TRANSP:OPAQUE
DTEND;TZID=Europe/Berlin:20220111T104500
LOCATION:LG 3B - Raum 119
SUMMARY:Medientechnik – Komponenten und Anwendungen
CLASS:PUBLIC
DESCRIPTION:Eine Veranstaltung der SeniorenUniversität Cottbus-Senftenberg
DTSTAMP:20260422T052340Z
BEGIN:VALARM
TRIGGER:-PT60M
ACTION:DISPLAY
DESCRIPTION:Medientechnik – Komponenten und Anwendungen beginnt in 60 min
 .
END:VALARM
END:VEVENT
BEGIN:VEVENT
UID:69e83f3c1e0bc
DTSTART;TZID=Europe/Berlin:20220118T091500
SEQUENCE:0
TRANSP:OPAQUE
DTEND;TZID=Europe/Berlin:20220118T104500
LOCATION:LG 3B - Raum 119
SUMMARY:Medientechnik – Komponenten und Anwendungen
CLASS:PUBLIC
DESCRIPTION:Eine Veranstaltung der SeniorenUniversität Cottbus-Senftenberg
DTSTAMP:20260422T052340Z
BEGIN:VALARM
TRIGGER:-PT60M
ACTION:DISPLAY
DESCRIPTION:Medientechnik – Komponenten und Anwendungen beginnt in 60 min
 .
END:VALARM
END:VEVENT
BEGIN:VEVENT
UID:69e83f3c1e0be
DTSTART;TZID=Europe/Berlin:20220125T091500
SEQUENCE:0
TRANSP:OPAQUE
DTEND;TZID=Europe/Berlin:20220125T104500
LOCATION:LG 3B - Raum 119
SUMMARY:Medientechnik – Komponenten und Anwendungen
CLASS:PUBLIC
DESCRIPTION:Eine Veranstaltung der SeniorenUniversität Cottbus-Senftenberg
DTSTAMP:20260422T052340Z
BEGIN:VALARM
TRIGGER:-PT60M
ACTION:DISPLAY
DESCRIPTION:Medientechnik – Komponenten und Anwendungen beginnt in 60 min
 .
END:VALARM
END:VEVENT
BEGIN:VEVENT
UID:69e83f3c1e0c1
DTSTART;TZID=Europe/Berlin:20220201T091500
SEQUENCE:0
TRANSP:OPAQUE
DTEND;TZID=Europe/Berlin:20220201T104500
LOCATION:LG 3B - Raum 119
SUMMARY:Medientechnik – Komponenten und Anwendungen
CLASS:PUBLIC
DESCRIPTION:Eine Veranstaltung der SeniorenUniversität Cottbus-Senftenberg
DTSTAMP:20260422T052340Z
BEGIN:VALARM
TRIGGER:-PT60M
ACTION:DISPLAY
DESCRIPTION:Medientechnik – Komponenten und Anwendungen beginnt in 60 min
 .
END:VALARM
END:VEVENT
END:VCALENDAR